BEGIN:VCALENDAR
VERSION:2.0
PRODID:-//wp-events-plugin.com//7.2.3.1//EN
BEGIN:VEVENT
UID:1422@ub.edu
DTSTART:20140424T130000Z
DTEND:20140424T150000Z
DTSTAMP:20250928T160009Z
URL:https://www.ub.edu/grc_logos/activities/barnes-forthcoming/
SUMMARY:Barnes (forthcoming)
DESCRIPTION:Barnes (forthcoming): &quot\;Going Beyond the Fundamental: Femi
 nism in Contemporary Metaphysics&quot\;\, Proceedings of the Aristotelian 
 Society 
LOCATION:Barcelona
X-APPLE-STRUCTURED-LOCATION;VALUE=URI;X-ADDRESS=\, Spain;X-APPLE-RADIUS=100
 ;X-TITLE=Barcelona:geo:0,0
END:VEVENT
END:VCALENDAR