BEGIN:VCALENDAR
VERSION:2.0
PRODID:-//wp-events-plugin.com//7.2.3.1//EN
BEGIN:VEVENT
UID:1418@ub.edu
DTSTART:20140403T130000Z
DTEND:20140403T150000Z
DTSTAMP:20250928T160009Z
URL:https://www.ub.edu/grc_logos/activities/leslie-forthcoming/
SUMMARY:Leslie (forthcoming)
DESCRIPTION:Leslie (forthcoming): &quot\;Carving up the Social World with G
 enerics&rdquo\;\, Oxford Studies in Experimental Philosophy
LOCATION:Barcelona
X-APPLE-STRUCTURED-LOCATION;VALUE=URI;X-ADDRESS=\, Spain;X-APPLE-RADIUS=100
 ;X-TITLE=Barcelona:geo:0,0
END:VEVENT
END:VCALENDAR