BEGIN:VCALENDAR
VERSION:2.0
PRODID:-//wp-events-plugin.com//7.2.3.1//EN
BEGIN:VEVENT
UID:2180@ub.edu
DTSTART;TZID=Europe/Madrid;VALUE=DATE:20260209
DTEND;TZID=Europe/Madrid;VALUE=DATE:20260211
DTSTAMP:20260209T132026Z
URL:https://www.ub.edu/grc_logos/activities/objects-and-existence-2/
SUMMARY:Objects and Existence
DESCRIPTION:February 9\, 2026\n16:00-17:30 Simon Evnine. “The Human Being
  in the Age of Biological Reproduction”.\n17:30-18:00 Coffee break.\n18:
 00-19:30 Margarida Hermida. “Living Objects”.\nFebruary 10\, 2026\n10:
 00-11:30 Dolf Rami. “Two Philosophical Notions of Existence. How to Reso
 lve the Tension”.\n11:30-12:00 Coffee break.\n12:00-13:30 Maria de Ponte
 . “What Is and What Could Have Been: Quine's Pyrrhic Victory”.\n\nLunc
 h break\n\n15:30-17:00 Elia Zardini. “Vagueness across the Type Hierarch
 y”.\n17:00-17:30 Coffee break.\n17:30-19:00 Sònia Roca-Royes. “Abunda
 nt vs. Sparse Objects”.\n\nAll talks will be held in the Seminari de Fil
 osofia\, Faculty of Philosophy\, 4th floor (C/ Montalegre\, 6).\nOrganize
 d by\nMarta Campdelacreu and Sergi Oms\nFunded by the Ministerio de Cienc
 ia\, Innovación y Universidades\, project “Paradoxes as Philosophical T
 ools”\, PID2023-150066NB-I00.
CATEGORIES:Conferences
LOCATION:University of Barcelona
X-APPLE-STRUCTURED-LOCATION;VALUE=URI;X-ADDRESS=\, Spain;X-APPLE-RADIUS=100
 ;X-TITLE=University of Barcelona:geo:0,0
END:VEVENT
BEGIN:VTIMEZONE
TZID:Europe/Madrid
X-LIC-LOCATION:Europe/Madrid
BEGIN:STANDARD
DTSTART:20251026T020000
TZOFFSETFROM:+0200
TZOFFSETTO:+0100
TZNAME:CET
END:STANDARD
END:VTIMEZONE
END:VCALENDAR