BEGIN:VCALENDAR
VERSION:2.0
PRODID:-//wp-events-plugin.com//7.2.3.1//EN
BEGIN:VEVENT
UID:2186@ub.edu
DTSTART;TZID=Europe/Madrid:20260218T150000
DTEND;TZID=Europe/Madrid:20260218T170000
DTSTAMP:20260127T103608Z
URL:https://www.ub.edu/grc_logos/activities/tba-21/
SUMMARY:Why inner speech is agentially diminished
DESCRIPTION:ABSTRACT: Inner speech is often explained by drawing an analog
 y with outer speech. In various views\, inner speech is functionally\, dev
 elopmentally and mechanistically continuous with outer speech. In this pap
 er\, I present the aspects in which inner speech is discontinuous with res
 pect to outer speech. These are condensation\, agency\, and imagery. I the
 n argue for the agency discontinuity and show that inner speech is agentia
 lly diminished. I show how this is supported by relevant strands of the ph
 ilosophical and psychological literature. I finish by proposing two paths 
 the explanation of this agential impoverishment can take.
CATEGORIES:Seminar
LOCATION:Seminari de Filosofia\, Faculty of Philosophy (4th floor)\, Univer
 sity of Barcelona
X-APPLE-STRUCTURED-LOCATION;VALUE=URI;X-ADDRESS=\, Spain;X-APPLE-RADIUS=100
 ;X-TITLE=Seminari de Filosofia\, Faculty of Philosophy (4th floor)\, Unive
 rsity of Barcelona:geo:0,0
END:VEVENT
BEGIN:VTIMEZONE
TZID:Europe/Madrid
X-LIC-LOCATION:Europe/Madrid
BEGIN:STANDARD
DTSTART:20251026T020000
TZOFFSETFROM:+0200
TZOFFSETTO:+0100
TZNAME:CET
END:STANDARD
END:VTIMEZONE
END:VCALENDAR